Workbook

Sheet Stage 2
B2: Delivery Schedule (Form E)
B3: The evaluation should consider the overall project schedule from scoping through design, construction and opening to the public
B6: DESIGN-BID-BUILD
B7: Complete design and procure the Contractor
B8: Opportunities | G8: Obstacles | L8: Rating
B9: FALSE | C9: Schedule more predictable and more manageable | G9: FALSE | H9: Longer time linear process
G10: FALSE | H10: Lack industry input could add time
B11: FALSE | C11: Elements of design are completed prior to permitting, construction, etc. | G11: FALSE | H11: Design lead to change orders and schedule delays
B13: FALSE | C13: Shortest contractor procurement period | G13: FALSE | H13: Low bid selection may lead to potential delays and other adverse outcomes
B14: FALSE | C14: Time to communicate/discuss design with stakeholders
B16: FALSE | C16: Milestones can be easier to define
B17: DESIGN-BUILD
B18: D/B procured after 30% plans (NEPA approval)
B19: Opportunities | G19: Obstacles | L19: Rating
B20: FALSE | C20: Accelerate schedule through parallel process | G20: FALSE | H20: RFP development and procurement can be intensive
B22: FALSE | C22: Shifting schedule risk to DB team | G22: FALSE | H22: Undefined events or conditions found after procurement, but during design can impact schedule and cost
B23: FALSE | C23: Encumbers contruction funds more quickly
B25: FALSE | C25: Industry innovation into design and schedule
G26: FALSE | H26: Requires agency and stakeholder commitment to expedite design review
B27: FALSE | C27: More efficient procurement of long-lead items
G28: FALSE | H28: Design not under direct control of the owner
B29: FALSE | C29: Phased Design allows to start construction earlier
B31: FALSE | C31: Allows innovation in recouce loading and scheduling by DB team
B33: CM/GC
B34: Designer/Contractor begin work together at 50% plans
B35: Opportunities | G35: Obstacles | L35: Rating
B36: FALSE | C36: Ability to start pieces of construction or procurement of long lead items before entire design, ROW, etc. is complete (i.e. phased design) | G36: FALSE | H36: Potential for not reaching GMP and substantially delaying schedule
G38: FALSE | H38: Designer-contractor-agency disagreements can add delays
B40: FALSE | C40: Early identification and resolution of design and contruction issues (e.g., utility, ROW, and earthwork) | G40: FALSE | H40: Strong agency management is required to control schedule
G42: FALSE | H42: Design Changes/NOIs due to contractor input
B43: FALSE | C43: Shorter procurement then DB
B44: FALSE | C44: Team involvement for schedule optimization
B46: FALSE | C46: Continuous constructability review and VE
B48: FALSE | C48: Contractor input for phasing, constructability and traffic control may reduce overall schedule
B52: Project Complexity/Innovation (Form F)
B53: The evaluation should consider opportunities and timeframes of when issues and innovation can be addressed and resolved.
B56: DESIGN-BID-BUILD
B57: Fully resolve issues during design; innovation through VE and bidding options
B58: Opportunities | G58: Obstacles | L58: Rating
B59: FALSE | C59: Agencies can have more control of design of complex projects | G59: FALSE | H59: Innovations can add cost or time and restrain contractor's benefits
...

Sheet Stage 3
B2: Staff Experience and Availability (Form J)
B3: The evaluation should consider staff’s experience with various delivery methods and availability to participate in all phases.
B6: DESIGN-BID-BUILD
B7: Various resources spread out over development, design, and construction phases
B8: Opportunities | G8: Obstacles | L8: Rating
B9: FALSE | C9: Agency, contractors, and consultants have high level of experience with the traditional system | G9: FALSE | H9: Can require a high level of agency staffing of technical resources
G11: FALSE | H11: Staff’s responsibilities are spread out over a longer design period
B12: FALSE | C12: Designers can be more interchangeable between projects
G13: FALSE | H13: Can require staff to have full breadth of technical expertise
B15: DESIGN-BUILD
B16: Critical technical needs during RFQ and RFP stages; design and construction need throughout
B17: Opportunities | G17: Obstacles | L17: Rating
B18: FALSE | C18: Less agency staff required due to the sole source nature of DB | G18: FALSE | H18: Limitation of availability of staff with skills, knowledge, and personality to manage DB projects
B20: FALSE | C20: Opportunity to grow agency skill levels for staff by learning a new process
G21: FALSE | H21: Existing staff may need additional training to address their changing roles
G23: FALSE | H23: Need to “mass” agency management and technical resources at critical points in process (e.g., RFP development, design reviews)
B27: CM/GC
B28: Strong Agency commitment through collaborative process throughout
B29: Opportunities | G29: Obstacles | L29: Rating
B30: FALSE | C30: Agency can improve efficiencies by having more project managers on staff rather than specialized experts | G30: FALSE | H30: Strong committed agency project management is important to success
G32: FALSE | H32: Limitation of availability of staff with skills, knowledge, and personality to manage CM/GC projects
B33: FALSE | C33: Smaller number of technical staffs are required through use of consultant designer
G35: FALSE | H35: Existing staff may need additional training to address their changing roles
G37: FALSE | H37: Agency must learn how to negotiate a Proposed Construction Price (PCP)
B40: Oversight and Control Levels (Form K)
B41: The evaluation should consider Agency monitoring and control during design and construction phases.
B43: DESIGN-BID-BUILD
B44: Full control over linear design and construction process
B45: Opportunities | G45: Obstacles | L45: Rating
B46: FALSE | C46: Full agency control over a linear design and construction process | G46: FALSE | H46: Requires a high-level of oversight
G47: FALSE | H47: Increased likelihood of claims due to agency design responsibility
B48: FALSE | C48: Oversight roles are well understood
B49: FALSE | C49: Contract documents are typically completed in a single package before construction begins | G49: FALSE | H49: Limited control over an integrated design/construction process
B52: FALSE | C52: Multiple checking points through three linear phases: design-bid-build
B54: FALSE | C54: Maximum control over design
B55: DESIGN-BUILD
B56: Performance specs lead to less control in design; QA performed in construction by DB
B57: Opportunities | G57: Obstacles | L57: Rating
B58: FALSE | C58: A single entity responsibility during project design and construction | G58: FALSE | H58: Can require a high level of design oversight
G59: FALSE | H59: Can require a high level of quality assurance oversight
...

Sheet Summary Form
B2: Project Delivery Selection Summary (Form M)
B3: Complete the summary form below, based on your general evaluations for the primary and secondary evaluation factors from Forms E-L.
B6: PROJECT DELIVERY METHOD OPPORTUNITY/OBSTACLE SUMMARY
G8: DBB | I8: DB | K8: CM/GC
B9: Primary Evaluation Factors | G9: =SUM(G10:H14) -> 0 | I9: =SUM(I10:J14) -> 0 | K9: =SUM(K10:L14) -> 0
B10: Delivery Schedule (Form E) | G10: ='Stage 2'!L9 -> 0 | I10: ='Stage 2'!L20 -> 0 | K10: ='Stage 2'!L36 -> 0
B11: Project Complexity/Innovation (Form F) | G11: ='Stage 2'!L59 -> 0 | I11: ='Stage 2'!L75 -> 0 | K11: ='Stage 2'!L90 -> 0
B12: Design Completion (Form G) | G12: ='Stage 2'!L109 -> 0 | I12: ='Stage 2'!L122 -> 0 | K12: ='Stage 2'!L140 -> 0
B13: Costs (Form H) | G13: ='Stage 2'!L159 -> 0 | I13: ='Stage 2'!L169 -> 0 | K13: ='Stage 2'!L186 -> 0
B14: Risks (Form I) | G14: ='Stage 2'!L206 -> 0 | I14: ='Stage 2'!L221 -> 0 | K14: ='Stage 2'!L239 -> 0
B15: Secondary Evaluation Factors | G15: =SUM(G16:H18) -> 0 | I15: =SUM(I16:J18) -> 0 | K15: =SUM(K16:L18) -> 0
B16: Staff Experience and Availability (Form J) | G16: ='Stage 3'!L9 -> 0 | I16: ='Stage 3'!L18 -> 0 | K16: ='Stage 3'!L30 -> 0
B17: Oversight and Control Levels (Form K) | G17: ='Stage 3'!L46 -> 0 | I17: ='Stage 3'!L58 -> 0 | K17: ='Stage 3'!L69 -> 0
B18: Competition and Contractor Experience (Form L) | G18: ='Stage 3'!L83 -> 0 | I18: ='Stage 3'!L94 -> 0 | K18: ='Stage 3'!L106 -> 0
